BEGIN:VCALENDAR
VERSION:2.0
PRODID:-//O2C Lab - ECPv6.15.20//NONSGML v1.0//EN
CALSCALE:GREGORIAN
METHOD:PUBLISH
X-ORIGINAL-URL:https://o2clab.com
X-WR-CALDESC:Events for O2C Lab
REFRESH-INTERVAL;VALUE=DURATION:PT1H
X-Robots-Tag:noindex
X-PUBLISHED-TTL:PT1H
BEGIN:VTIMEZONE
TZID:Europe/London
BEGIN:DAYLIGHT
TZOFFSETFROM:+0000
TZOFFSETTO:+0100
TZNAME:BST
DTSTART:20250330T010000
END:DAYLIGHT
BEGIN:STANDARD
TZOFFSETFROM:+0100
TZOFFSETTO:+0000
TZNAME:GMT
DTSTART:20251026T010000
END:STANDARD
BEGIN:DAYLIGHT
TZOFFSETFROM:+0000
TZOFFSETTO:+0100
TZNAME:BST
DTSTART:20260329T010000
END:DAYLIGHT
BEGIN:STANDARD
TZOFFSETFROM:+0100
TZOFFSETTO:+0000
TZNAME:GMT
DTSTART:20261025T010000
END:STANDARD
BEGIN:DAYLIGHT
TZOFFSETFROM:+0000
TZOFFSETTO:+0100
TZNAME:BST
DTSTART:20270328T010000
END:DAYLIGHT
BEGIN:STANDARD
TZOFFSETFROM:+0100
TZOFFSETTO:+0000
TZNAME:GMT
DTSTART:20271031T010000
END:STANDARD
END:VTIMEZONE
BEGIN:VEVENT
DTSTART;TZID=Europe/London:20260519T093000
DTEND;TZID=Europe/London:20260519T150000
DTSTAMP:20260422T180052
CREATED:20260109T130514Z
LAST-MODIFIED:20260416T101544Z
UID:10000046-1779183000-1779202800@o2clab.com
SUMMARY:ICF: International Credit Forum
DESCRIPTION:ICF: International Credit Forum\n\n\nJoin us for our ICF: International Credit Forum meeting. \nFull Agenda below
URL:https://o2clab.com/event/icf-international-credit-forum-3/
CATEGORIES:Forums,ICF
ATTACH;FMTTYPE=image/jpeg:https://o2clab.com/wp-content/uploads/2025/11/7465e90d1061ec366615c66f8a5769d2-zZ5UAn.tmp_.jpg
END:VEVENT
BEGIN:VEVENT
DTSTART;TZID=Europe/London:20261013T093000
DTEND;TZID=Europe/London:20261013T150000
DTSTAMP:20260422T180052
CREATED:20260109T105338Z
LAST-MODIFIED:20260420T140919Z
UID:10000055-1791883800-1791903600@o2clab.com
SUMMARY:ICF: International Credit Forum
DESCRIPTION:ICF: International Credit Forum\n\n\nJoin us for our ICF: International Credit Forum meeting. \nFull Agenda below
URL:https://o2clab.com/event/icf-international-credit-forum-2/
CATEGORIES:Forums,ICF
ATTACH;FMTTYPE=image/jpeg:https://o2clab.com/wp-content/uploads/2026/01/ed37efce990cb2d55369da78c68503a1-fNIuII.tmp_.jpg
END:VEVENT
END:VCALENDAR